BEGIN:VCALENDAR
VERSION:2.0
PRODID:-//Tukios.com/
BEGIN:VEVENT
UID:fbc16f80-f097-4d5f-a9c5-57d7512141f8@obits.cremationsocietyofwaukesha.com
DTSTAMP:20260422T182525Z
DTSTART:20260605T220000Z
DTEND:20260606T010000Z
SUMMARY:Celebration of Life
DESCRIPTION:Welcome, Opening Remarks and Shared Memories followed by 
	reception
URL:https://obits.cremationsocietyofwaukesha.com/william-bill-broten-jr
LOCATION:The Fairways of Woodside W235N8518 Clubhouse Circle  Sussex WI 
	53089
GEO:43.1719844;-88.2133379
END:VEVENT
END:VCALENDAR