BEGIN:VCALENDAR
VERSION:2.0
PRODID:-//Tukios.com/
BEGIN:VEVENT
UID:6622c8fd-8325-41ef-bc9d-9b4dcfbf1106@obits.cremationsocietyofwaukesha.com
DTSTAMP:20260422T182820Z
DTSTART:20260605T210000Z
DTEND:20260605T220000Z
SUMMARY:Visitation
DESCRIPTION:
URL:https://obits.cremationsocietyofwaukesha.com/william-bill-broten-jr
LOCATION:The Fairways of Woodside W235N8518 Clubhouse Circle  Sussex WI 
	53089
GEO:43.1719844;-88.2133379
END:VEVENT
END:VCALENDAR