BEGIN:VCALENDAR
VERSION:2.0
PRODID:-//Tukios.com/
BEGIN:VEVENT
UID:34c9581b-5d80-4ec7-84ea-521b35e3b1fd@obits.cremationsocietyofwaukesha.com
DTSTAMP:20260421T234027Z
DTSTART:20260508T154500Z
DTEND:20260508T164500Z
SUMMARY:Funeral Service
DESCRIPTION:
URL:https://obits.cremationsocietyofwaukesha.com/lorraine-machacek-nee-schroeder
LOCATION:Wisconsin Memorial Park 13235 West Capitol Drive  Brookfield WI 
	53005
GEO:43.0867419;-88.0768695
END:VEVENT
END:VCALENDAR