BEGIN:VCALENDAR
VERSION:2.0
PRODID:-//Tukios.com/
BEGIN:VEVENT
UID:bd98326a-8f21-4b83-a4ce-a0202c4ab6f1@obits.cremationsocietyofwaukesha.com
DTSTAMP:20260421T225258Z
DTSTART:20260516T170000Z
DTEND:20260516T180000Z
SUMMARY:Memorial Service
DESCRIPTION:
URL:https://obits.cremationsocietyofwaukesha.com/john-howe
LOCATION:St. Teresa of Calcutta Church W314 N7462 Wisconsin 83  Hartland 
	WI 53029
GEO:43.1546365;-88.3703766
END:VEVENT
END:VCALENDAR