BEGIN:VCALENDAR
VERSION:2.0
PRODID:-//Tukios.com/
BEGIN:VEVENT
UID:c6bc34ed-a23f-408c-9da7-8e548f08193c@obits.cremationsocietyofwaukesha.com
DTSTAMP:20260421T224923Z
DTSTART:20260516T153000Z
DTEND:20260516T170000Z
SUMMARY:Visitation
DESCRIPTION:
URL:https://obits.cremationsocietyofwaukesha.com/john-howe
LOCATION:St. Teresa of Calcutta Church W314 N7462 Wisconsin 83  Hartland 
	WI 53029
GEO:43.1546365;-88.3703766
END:VEVENT
END:VCALENDAR